BEGIN:VCALENDAR
VERSION:2.0
PRODID:-//lightbulb/agenda//NONSGML v1.0//EN
CALSCALE:GREGORIAN
BEGIN:VEVENT
DTEND:20211015T000000
UID:615ee07003636
DTSTAMP:20211007T115632
LOCATION:
DESCRIPTION:Weider Infoen: Jota-Joti 
URL;VALUE=URI:https://international.lgs.lu/event/jota-joti-2021/
SUMMARY:Jota-Joti 2021
DTSTART:20211015T000000
END:VEVENT
BEGIN:VEVENT
DTEND:20211015T000000
UID:615ee070037f1
DTSTAMP:20211007T115632
LOCATION:
DESCRIPTION:Weider Infoen: Jota-Joti 
URL;VALUE=URI:https://international.lgs.lu/event/jota-joti-2021/
SUMMARY:Jota-Joti 2021
DTSTART:20211015T000000
END:VEVENT
BEGIN:VEVENT
DTEND:20220222T000000
UID:615ee07003b66
DTSTAMP:20211007T115632
LOCATION:
DESCRIPTION:Weider Infoen: World Thinking Day / Founders’ Day
URL;VALUE=URI:https://international.lgs.lu/event/world-thinking-day-founders-day-2022/
SUMMARY:World Thinking Day / Founders’ Day 2022
DTSTART:20220222T000000
END:VEVENT
BEGIN:VEVENT
DTEND:20220222T000000
UID:615ee07003c9b
DTSTAMP:20211007T115632
LOCATION:
DESCRIPTION:Weider Infoen: World Thinking Day / Founders’ Day
URL;VALUE=URI:https://international.lgs.lu/event/world-thinking-day-founders-day-2022/
SUMMARY:World Thinking Day / Founders’ Day 2022
DTSTART:20220222T000000
END:VEVENT
BEGIN:VEVENT
DTEND:20220718T000000
UID:615ee07003ef8
DTSTAMP:20211007T115632
LOCATION:
DESCRIPTION:Den Moot ass leider ofgesoot. https://www.worldscoutmoot.ie/  
URL;VALUE=URI:https://international.lgs.lu/event/moot-2022-ireland/
SUMMARY:Moot 2022 Ireland
DTSTART:20220718T000000
END:VEVENT
BEGIN:VEVENT
DTEND:20220718T000000
UID:615ee07003ffc
DTSTAMP:20211007T115632
LOCATION:
DESCRIPTION:Den Moot ass leider ofgesoot. https://www.worldscoutmoot.ie/  
URL;VALUE=URI:https://international.lgs.lu/event/moot-2022-ireland/
SUMMARY:Moot 2022 Ireland
DTSTART:20220718T000000
END:VEVENT
BEGIN:VEVENT
DTEND:20220801T000000
UID:615ee07004203
DTSTAMP:20211007T115632
LOCATION:
DESCRIPTION:Weider Infoen:  Scout Scarf Day
URL;VALUE=URI:https://international.lgs.lu/event/scout-scarf-day-2022/
SUMMARY:Scout Scarf Day 2022
DTSTART:20220801T000000
END:VEVENT
BEGIN:VEVENT
DTEND:20220801T000000
UID:615ee070042ff
DTSTAMP:20211007T115632
LOCATION:
DESCRIPTION:Weider Infoen:  Scout Scarf Day
URL;VALUE=URI:https://international.lgs.lu/event/scout-scarf-day-2022/
SUMMARY:Scout Scarf Day 2022
DTSTART:20220801T000000
END:VEVENT
BEGIN:VEVENT
DTEND:20221014T000000
UID:615ee07004504
DTSTAMP:20211007T115632
LOCATION:
DESCRIPTION:Weider Infoen: Jota-Joti 
URL;VALUE=URI:https://international.lgs.lu/event/jota-joti-2022/
SUMMARY:Jota-Joti 2022
DTSTART:20221014T000000
END:VEVENT
BEGIN:VEVENT
DTEND:20221014T000000
UID:615ee07004604
DTSTAMP:20211007T115632
LOCATION:
DESCRIPTION:Weider Infoen: Jota-Joti 
URL;VALUE=URI:https://international.lgs.lu/event/jota-joti-2022/
SUMMARY:Jota-Joti 2022
DTSTART:20221014T000000
END:VEVENT
BEGIN:VEVENT
DTEND:20230222T000000
UID:615ee07004851
DTSTAMP:20211007T115632
LOCATION:
DESCRIPTION:Weider Infoen: World Thinking Day / Founders’ Day
URL;VALUE=URI:https://international.lgs.lu/event/world-thinking-day-founders-day-2023/
SUMMARY:World Thinking Day / Founders’ Day 2023
DTSTART:20230222T000000
END:VEVENT
BEGIN:VEVENT
DTEND:20230222T000000
UID:615ee0700494d
DTSTAMP:20211007T115632
LOCATION:
DESCRIPTION:Weider Infoen: World Thinking Day / Founders’ Day
URL;VALUE=URI:https://international.lgs.lu/event/world-thinking-day-founders-day-2023/
SUMMARY:World Thinking Day / Founders’ Day 2023
DTSTART:20230222T000000
END:VEVENT
BEGIN:VEVENT
DTEND:20230801T000000
UID:615ee07004b55
DTSTAMP:20211007T115632
LOCATION:
DESCRIPTION:Weider Infoen op: http://www.2023wsjkorea.org/_html/index.html  
URL;VALUE=URI:https://international.lgs.lu/event/25th-world-scout-jamboree-south-korea/
SUMMARY:25th World Scout Jamboree South Korea
DTSTART:20230801T000000
END:VEVENT
BEGIN:VEVENT
DTEND:20230801T000000
UID:615ee07004d4e
DTSTAMP:20211007T115632
LOCATION:
DESCRIPTION:Weider Infoen:  Scout Scarf Day
URL;VALUE=URI:https://international.lgs.lu/event/scout-scarf-day-2023/
SUMMARY:Scout Scarf Day 2023
DTSTART:20230801T000000
END:VEVENT
BEGIN:VEVENT
DTEND:20230801T000000
UID:615ee07004e48
DTSTAMP:20211007T115632
LOCATION:
DESCRIPTION:Weider Infoen:  Scout Scarf Day
URL;VALUE=URI:https://international.lgs.lu/event/scout-scarf-day-2023/
SUMMARY:Scout Scarf Day 2023
DTSTART:20230801T000000
END:VEVENT
BEGIN:VEVENT
DTEND:20230801T000000
UID:615ee07004f45
DTSTAMP:20211007T115632
LOCATION:
DESCRIPTION:Weider Infoen op: http://www.2023wsjkorea.org/_html/index.html  
URL;VALUE=URI:https://international.lgs.lu/event/25th-world-scout-jamboree-south-korea/
SUMMARY:25th World Scout Jamboree South Korea
DTSTART:20230801T000000
END:VEVENT
BEGIN:VEVENT
DTEND:20231020T000000
UID:615ee07005140
DTSTAMP:20211007T115632
LOCATION:
DESCRIPTION:Weider Infoen: Jota-Joti 
URL;VALUE=URI:https://international.lgs.lu/event/jota-joti-2023/
SUMMARY:Jota-Joti 2023
DTSTART:20231020T000000
END:VEVENT
BEGIN:VEVENT
DTEND:20231020T000000
UID:615ee0700523e
DTSTAMP:20211007T115632
LOCATION:
DESCRIPTION:Weider Infoen: Jota-Joti 
URL;VALUE=URI:https://international.lgs.lu/event/jota-joti-2023/
SUMMARY:Jota-Joti 2023
DTSTART:20231020T000000
END:VEVENT
END:VCALENDAR
